BEGIN:VCALENDAR
VERSION:2.0
PRODID:-//Ikebana International Biberach e.V. - ECPv6.15.20//NONSGML v1.0//EN
CALSCALE:GREGORIAN
METHOD:PUBLISH
X-ORIGINAL-URL:https://ikebana-biberach.de
X-WR-CALDESC:Veranstaltungen für Ikebana International Biberach e.V.
REFRESH-INTERVAL;VALUE=DURATION:PT1H
X-Robots-Tag:noindex
X-PUBLISHED-TTL:PT1H
BEGIN:VTIMEZONE
TZID:Europe/Berlin
BEGIN:DAYLIGHT
TZOFFSETFROM:+0100
TZOFFSETTO:+0200
TZNAME:CEST
DTSTART:20250330T010000
END:DAYLIGHT
BEGIN:STANDARD
TZOFFSETFROM:+0200
TZOFFSETTO:+0100
TZNAME:CET
DTSTART:20251026T010000
END:STANDARD
BEGIN:DAYLIGHT
TZOFFSETFROM:+0100
TZOFFSETTO:+0200
TZNAME:CEST
DTSTART:20260329T010000
END:DAYLIGHT
BEGIN:STANDARD
TZOFFSETFROM:+0200
TZOFFSETTO:+0100
TZNAME:CET
DTSTART:20261025T010000
END:STANDARD
BEGIN:DAYLIGHT
TZOFFSETFROM:+0100
TZOFFSETTO:+0200
TZNAME:CEST
DTSTART:20270328T010000
END:DAYLIGHT
BEGIN:STANDARD
TZOFFSETFROM:+0200
TZOFFSETTO:+0100
TZNAME:CET
DTSTART:20271031T010000
END:STANDARD
END:VTIMEZONE
BEGIN:VEVENT
DTSTART;TZID=Europe/Berlin:20260114T150000
DTEND;TZID=Europe/Berlin:20260114T163000
DTSTAMP:20260419T162726
CREATED:20250912T204326Z
LAST-MODIFIED:20250912T220924Z
UID:5628-1768402800-1768408200@ikebana-biberach.de
SUMMARY:Sogetsu-Basis-Unterricht
DESCRIPTION:Ikebana-Basics \nDie Konzentration auf das Wesentliche ist eines der wichtigsten Merkmale des Ikebana. Die Schönheit einer Blüte\, eines Zweiges kann durch Vereinzeln und Gestalten zum Ausdruck kommen. In diesem Seminar werden einfache Grundregeln der Sogetsu-Ikebana-Schule geübt und somit die Eigenheit des jeweiligen Materials hervorgehoben. Mit wenigen Mitteln kann ausdrucksvolle Gestaltung für jeden Anlass und jede Wohnung geübt werden. \nLeitung: Helene Lanz
URL:https://ikebana-biberach.de/event/sogetsu-basis-unterricht-5/
LOCATION:vhs Raum 08
CATEGORIES:Basis-Unterricht,Workshop/Seminar
ATTACH;FMTTYPE=image/jpeg:https://ikebana-biberach.de/wp-content/uploads/2025/05/DSC00439x.jpg
ORGANIZER;CN="vhs-Biberach":MAILTO:vhs@biberach-riss.de
END:VEVENT
END:VCALENDAR