BEGIN:VCALENDAR
VERSION:2.0
PRODID:-//Ikebana International Biberach e.V. - ECPv6.15.20//NONSGML v1.0//EN
CALSCALE:GREGORIAN
METHOD:PUBLISH
X-WR-CALNAME:Ikebana International Biberach e.V.
X-ORIGINAL-URL:https://ikebana-biberach.de
X-WR-CALDESC:Veranstaltungen für Ikebana International Biberach e.V.
REFRESH-INTERVAL;VALUE=DURATION:PT1H
X-Robots-Tag:noindex
X-PUBLISHED-TTL:PT1H
BEGIN:VTIMEZONE
TZID:Europe/Berlin
BEGIN:DAYLIGHT
TZOFFSETFROM:+0100
TZOFFSETTO:+0200
TZNAME:CEST
DTSTART:20250330T010000
END:DAYLIGHT
BEGIN:STANDARD
TZOFFSETFROM:+0200
TZOFFSETTO:+0100
TZNAME:CET
DTSTART:20251026T010000
END:STANDARD
BEGIN:DAYLIGHT
TZOFFSETFROM:+0100
TZOFFSETTO:+0200
TZNAME:CEST
DTSTART:20260329T010000
END:DAYLIGHT
BEGIN:STANDARD
TZOFFSETFROM:+0200
TZOFFSETTO:+0100
TZNAME:CET
DTSTART:20261025T010000
END:STANDARD
BEGIN:DAYLIGHT
TZOFFSETFROM:+0100
TZOFFSETTO:+0200
TZNAME:CEST
DTSTART:20270328T010000
END:DAYLIGHT
BEGIN:STANDARD
TZOFFSETFROM:+0200
TZOFFSETTO:+0100
TZNAME:CET
DTSTART:20271031T010000
END:STANDARD
END:VTIMEZONE
BEGIN:VEVENT
DTSTART;TZID=Europe/Berlin:20260313T170000
DTEND;TZID=Europe/Berlin:20260313T183000
DTSTAMP:20260419T162556
CREATED:20260110T151932Z
LAST-MODIFIED:20260307T001118Z
UID:5865-1773421200-1773426600@ikebana-biberach.de
SUMMARY:Ikebana-Vorführung Misho-Schule
DESCRIPTION:Die erfahrenen Ikebana-Künstlerinnen Esther Feucht und Monika Nussberger\, Meisterinnen der Misho-Ikebana-Schule\, präsentieren bei dieser Vorführung klassische und moderne Formen ihrer Schule. Die Misho-Schule wurde 1807 in Osaka gegründet. Sie betont vor allem die Harmonie im Zusammenwirken von Mensch\, Natur und Umgebung. Die Vorführung bietet Gelegenheit\, mehr über Philosophie und Regeln dieser Schule zu erfahren. \nEsther Feucht und Monika Nussberger
URL:https://ikebana-biberach.de/event/ikebana-vorfuehrung/
LOCATION:vhs-Biberach – Foyer\, Schulstraße 8\, Biberach/Riss\, Baden-Württemberg\, 88400\, Germany
CATEGORIES:Vorführung/Demonstration
ORGANIZER;CN="vhs-Biberach":MAILTO:vhs@biberach-riss.de
END:VEVENT
END:VCALENDAR