BEGIN:VCALENDAR
VERSION:2.0
PRODID:-//Ikebana International Biberach e.V. - ECPv6.15.20//NONSGML v1.0//EN
CALSCALE:GREGORIAN
METHOD:PUBLISH
X-WR-CALNAME:Ikebana International Biberach e.V.
X-ORIGINAL-URL:https://ikebana-biberach.de
X-WR-CALDESC:Veranstaltungen für Ikebana International Biberach e.V.
REFRESH-INTERVAL;VALUE=DURATION:PT1H
X-Robots-Tag:noindex
X-PUBLISHED-TTL:PT1H
BEGIN:VTIMEZONE
TZID:Europe/Berlin
BEGIN:DAYLIGHT
TZOFFSETFROM:+0100
TZOFFSETTO:+0200
TZNAME:CEST
DTSTART:20250330T010000
END:DAYLIGHT
BEGIN:STANDARD
TZOFFSETFROM:+0200
TZOFFSETTO:+0100
TZNAME:CET
DTSTART:20251026T010000
END:STANDARD
BEGIN:DAYLIGHT
TZOFFSETFROM:+0100
TZOFFSETTO:+0200
TZNAME:CEST
DTSTART:20260329T010000
END:DAYLIGHT
BEGIN:STANDARD
TZOFFSETFROM:+0200
TZOFFSETTO:+0100
TZNAME:CET
DTSTART:20261025T010000
END:STANDARD
BEGIN:DAYLIGHT
TZOFFSETFROM:+0100
TZOFFSETTO:+0200
TZNAME:CEST
DTSTART:20270328T010000
END:DAYLIGHT
BEGIN:STANDARD
TZOFFSETFROM:+0200
TZOFFSETTO:+0100
TZNAME:CET
DTSTART:20271031T010000
END:STANDARD
END:VTIMEZONE
BEGIN:VEVENT
DTSTART;TZID=Europe/Berlin:20260610T150000
DTEND;TZID=Europe/Berlin:20260610T163000
DTSTAMP:20260423T144423
CREATED:20260110T160659Z
LAST-MODIFIED:20260110T160659Z
UID:5884-1781103600-1781109000@ikebana-biberach.de
SUMMARY:Sogetsu-Basis-Unterreicht
DESCRIPTION:Die Konzentration auf das Wesentliche ist eines der wichtigsten Merkmale des Ikebana. Die Schönheit einer Blüte\, eines Zweiges kann durch Vereinzeln und Gestalten zum Ausdruck kommen. In diesem Seminar werden einfache Grundregeln der Sogetsu-Ikebana-Schule geübt und somit die Eigenheit des jeweiligen Materials hervorgehoben. Mit wenigen Mitteln kann ausdrucksvolle Gestaltung für jeden Anlass und jede Wohnung geübt werden. \nLeitung: Helene Lanz
URL:https://ikebana-biberach.de/event/sogetsu-basis-unterreicht/
LOCATION:vhs Raum 08
CATEGORIES:Basis-Unterricht,Workshop/Seminar
ORGANIZER;CN="Ikebana International Biberach e.V.":MAILTO:info@ikebana-biberach.de
END:VEVENT
BEGIN:VEVENT
DTSTART;TZID=Europe/Berlin:20260617T153000
DTEND;TZID=Europe/Berlin:20260617T170000
DTSTAMP:20260423T144423
CREATED:20260111T151530Z
LAST-MODIFIED:20260111T151530Z
UID:5894-1781710200-1781715600@ikebana-biberach.de
SUMMARY:Ikebana - Schnupperwerkstatt
DESCRIPTION:Die Ikebana-Gruppe Biberach bietet einen offenen Schnuppernachmittag in Bergerhausen an um die Ikebana Kunst ganz unverbindlich kennenzulernen. Bitte anmelden. \n 
URL:https://ikebana-biberach.de/event/ikebana-schnupperwerkstatt/
LOCATION:Gemeindehaus Bergerhausen – Kursraum\, Biberach - Bergerhausen\, Baden-Württemberg\, 88400\, Germany
CATEGORIES:Workshop/Seminar
ORGANIZER;CN="Ikebana International Biberach e.V.":MAILTO:info@ikebana-biberach.de
END:VEVENT
BEGIN:VEVENT
DTSTART;TZID=Europe/Berlin:20260618T080000
DTEND;TZID=Europe/Berlin:20260618T170000
DTSTAMP:20260423T144423
CREATED:20260111T153800Z
LAST-MODIFIED:20260111T153800Z
UID:5907-1781769600-1781802000@ikebana-biberach.de
SUMMARY:Ikebana-Kinderwerkstatt - Gestalten mit Pflanzen
DESCRIPTION:Die Ikebana-Gruppe Biberach bietet in der vhs regelmäßig „Offene Kindernachmittage“ für Schulkinder an. Aus Naturmaterial sowie nicht pflanzlichem Material können interessante Arrangements oder Skulpturen entstehen – Geschenke oder fantasievoller Tischschmuck für bestimmte Anlässe wie Weihnachten\, Geburtstag\, Muttertag\, Fasnacht u.a. Gleichzeitig wird spielerisch Naturbeobachtung sowie achtsamer Umgang mit Wiederverwendbarem geübt. \nDer Eintritt ist frei\, eine Anmeldung ist erforderlich.
URL:https://ikebana-biberach.de/event/ikebana-kinderwerkstatt-gestalten-mit-pflanzen-30/
LOCATION:vhs Raum 08
CATEGORIES:Ikebana für Kinder
ORGANIZER;CN="Ikebana International Biberach e.V.":MAILTO:info@ikebana-biberach.de
END:VEVENT
BEGIN:VEVENT
DTSTART;TZID=Europe/Berlin:20260619T180000
DTEND;TZID=Europe/Berlin:20260619T193000
DTSTAMP:20260423T144423
CREATED:20260110T153349Z
LAST-MODIFIED:20260111T150839Z
UID:5874-1781892000-1781897400@ikebana-biberach.de
SUMMARY:Ikebana Arbeitsabend - Zuschauer sind willkommen
DESCRIPTION:Der Themenschwerpunkt in diesem Semester ist „Bambus in verschiedenen Formen und Arten“.\nArbeiten mit frischem\, grünen\, dünnen Bambus. \n 
URL:https://ikebana-biberach.de/event/ikebana-arbeitsabend-4/
LOCATION:vhs Raum 08
CATEGORIES:Arbeits-/Übungsabend
ORGANIZER;CN="Ikebana International Biberach e.V.":MAILTO:info@ikebana-biberach.de
END:VEVENT
BEGIN:VEVENT
DTSTART;TZID=Europe/Berlin:20260625T153000
DTEND;TZID=Europe/Berlin:20260625T170000
DTSTAMP:20260423T144423
CREATED:20260111T154206Z
LAST-MODIFIED:20260111T154206Z
UID:5912-1782401400-1782406800@ikebana-biberach.de
SUMMARY:Ikebana-Kinderwerkstatt
DESCRIPTION:Die Ikebana-Gruppe Biberach bietet in der vhs regelmäßig „Offene Kindernachmittage“ für Schulkinder an. Aus Naturmaterial sowie nicht pflanzlichem Material können interessante Arrangements oder Skulpturen entstehen – Geschenke oder fantasievoller Tischschmuck für bestimmte Anlässe wie Weihnachten\, Geburtstag\, Muttertag\, Fasnacht u.a. Gleichzeitig wird spielerisch Naturbeobachtung sowie achtsamer Umgang mit Wiederverwendbarem geübt. \nDer Eintritt ist frei\, eine Anmeldung ist erforderlich.
URL:https://ikebana-biberach.de/event/ikebana-kinderwerkstatt/
LOCATION:Gemeindehaus Bergerhausen – Kursraum\, Biberach - Bergerhausen\, Baden-Württemberg\, 88400\, Germany
ORGANIZER;CN="Ikebana International Biberach e.V.":MAILTO:info@ikebana-biberach.de
END:VEVENT
END:VCALENDAR