BEGIN:VCALENDAR
VERSION:2.0
PRODID:-//Ikebana International Biberach e.V. - ECPv6.15.20//NONSGML v1.0//EN
CALSCALE:GREGORIAN
METHOD:PUBLISH
X-WR-CALNAME:Ikebana International Biberach e.V.
X-ORIGINAL-URL:https://ikebana-biberach.de
X-WR-CALDESC:Veranstaltungen für Ikebana International Biberach e.V.
REFRESH-INTERVAL;VALUE=DURATION:PT1H
X-Robots-Tag:noindex
X-PUBLISHED-TTL:PT1H
BEGIN:VTIMEZONE
TZID:Europe/Berlin
BEGIN:DAYLIGHT
TZOFFSETFROM:+0100
TZOFFSETTO:+0200
TZNAME:CEST
DTSTART:20240331T010000
END:DAYLIGHT
BEGIN:STANDARD
TZOFFSETFROM:+0200
TZOFFSETTO:+0100
TZNAME:CET
DTSTART:20241027T010000
END:STANDARD
BEGIN:DAYLIGHT
TZOFFSETFROM:+0100
TZOFFSETTO:+0200
TZNAME:CEST
DTSTART:20250330T010000
END:DAYLIGHT
BEGIN:STANDARD
TZOFFSETFROM:+0200
TZOFFSETTO:+0100
TZNAME:CET
DTSTART:20251026T010000
END:STANDARD
BEGIN:DAYLIGHT
TZOFFSETFROM:+0100
TZOFFSETTO:+0200
TZNAME:CEST
DTSTART:20260329T010000
END:DAYLIGHT
BEGIN:STANDARD
TZOFFSETFROM:+0200
TZOFFSETTO:+0100
TZNAME:CET
DTSTART:20261025T010000
END:STANDARD
END:VTIMEZONE
BEGIN:VEVENT
DTSTART;TZID=Europe/Berlin:20250108T153000
DTEND;TZID=Europe/Berlin:20250108T170000
DTSTAMP:20260425T121752
CREATED:20240623T072108Z
LAST-MODIFIED:20250505T143700Z
UID:4082-1736350200-1736355600@ikebana-biberach.de
SUMMARY:Ikebana-Kinderwerkstatt – Gestalten mit Pflanzen
DESCRIPTION:Die Ikebana-Gruppe Biberach bietet in der vhs regelmäßig „Offene Kindernachmittage“ für Schulkinder\nan. Aus Naturmaterial sowie nicht pflanzlichem Material können interessante Arrangements oder\nSkulpturen entstehen – Geschenke oder fantasievoller Tischschmuck für bestimmte Anlässe wie\nGeburtstag\, Weihnachten\, Fasnacht u. a. Gleichzeitig werden spielerisch Naturbetrachtung sowie ein\nachtsamer Umgang mit Wiederverwendbarem geübt. Der Eintritt ist frei\, eine Anmeldung muss bei der\nvhs erfolgen.
URL:https://ikebana-biberach.de/event/ikebana-kinderwerkstatt-gestalten-mit-pflanzen-21/
CATEGORIES:Ikebana für Kinder
END:VEVENT
END:VCALENDAR